BEGIN:VCALENDAR
VERSION:2.0
PRODID:-//CanyonLake.Church - ECPv5.6.0//NONSGML v1.0//EN
CALSCALE:GREGORIAN
METHOD:PUBLISH
X-WR-CALNAME:CanyonLake.Church
X-ORIGINAL-URL:https://canyonlake.church
X-WR-CALDESC:Events for CanyonLake.Church
BEGIN:VTIMEZONE
TZID:America/Los_Angeles
BEGIN:DAYLIGHT
TZOFFSETFROM:-0800
TZOFFSETTO:-0700
TZNAME:PDT
DTSTART:20250309T100000
END:DAYLIGHT
BEGIN:STANDARD
TZOFFSETFROM:-0700
TZOFFSETTO:-0800
TZNAME:PST
DTSTART:20251102T090000
END:STANDARD
END:VTIMEZONE
BEGIN:VEVENT
DTSTART;TZID=America/Los_Angeles:20250824T090000
DTEND;TZID=America/Los_Angeles:20250824T123000
DTSTAMP:20260423T095800
CREATED:20250527T121727Z
LAST-MODIFIED:20250530T124903Z
UID:1257-1756026000-1756038600@canyonlake.church
SUMMARY:Child Dedication
DESCRIPTION:We are celebrating Cornerstone families who are wanting to dedicate their children! \nChild dedication is an opportunity for parents to make a commitment before the Lord to raise their children to know God’s Word and ways. The Bible says all Scripture is good for teaching and training (2 Timothy 3:16)\, and parents are to diligently share God’s Word with their children (Deuteronomy 6:7). \nOur hope is for parents to raise their children to know and love the Lord\, and when the children are older\, they will want to participate in baptism to proclaim their genuine faith before God and their faith community. \nWe will be holding a Child Dedication for children birth-4yrs on Sunday\, August 24th\, during all services in the Main Sanctuary.\nPLEASE REGISTER YOUR CHILD FOR THE SERVICE YOU WOULD LIKE TO BE A PART OF.\n \nWe encourage you to invite family and friends to join in celebrating this special event!
URL:https://canyonlake.church/event/child-dedication-4/
LOCATION:Cornerstone Community Church\, 34570 Monte Vista Drive\, Wildomar\, CA\, 92595\, United States
CATEGORIES:Birth-TK,KNOW GOD,Young Family
ATTACH;FMTTYPE=image/jpeg:https://canyonlake.church/wp-content/uploads/sites/7/2025/04/CKJR-Dedication-oxQGwH.tmp_-QAcoxi.tmp_.jpg
END:VEVENT
BEGIN:VEVENT
DTSTART;TZID=America/Los_Angeles:20250731T180000
DTEND;TZID=America/Los_Angeles:20250731T200000
DTSTAMP:20260423T095800
CREATED:20250503T080003Z
LAST-MODIFIED:20250530T124903Z
UID:1209-1753984800-1753992000@canyonlake.church
SUMMARY:Worship Night
DESCRIPTION:Do you ever wish we had an extended time of singing together on Sunday mornings? \nJoin us for Worship Night—an evening dedicated specifically to worshiping the Lord through music. While childcare is not provided\, children are definitely invited. \nWe can’t wait to worship with you!
URL:https://canyonlake.church/event/worship-night-3/
CATEGORIES:All Church,Birth-TK,GROW WITH OTHERS,HELP THE HURTING,High School,Kids K-5,KNOW GOD,Men,Middle School,Seniors,USE YOUR GIFTS,Women,Young Adults
ATTACH;FMTTYPE=image/jpeg:https://canyonlake.church/wp-content/uploads/sites/7/2025/05/CWorship25-Summer-tKpAUr.tmp_-Se8f3J.tmp_.jpg
END:VEVENT
BEGIN:VEVENT
DTSTART;TZID=America/Los_Angeles:20250709T100000
DTEND;TZID=America/Los_Angeles:20250709T113000
DTSTAMP:20260423T095800
CREATED:20250502T074714Z
LAST-MODIFIED:20250530T124902Z
UID:1207-1752055200-1752060600@canyonlake.church
SUMMARY:Park Playdate
DESCRIPTION:Join us for a park playdate to get to know other parents in our Cornerstone community! We will be meeting at various local parks on the second Wednesday of June and July from 10-11:30AM. Snacks and water will be provided. \nPlease register so we can have enough snacks! \nWe’re excited to see you at the next park playdate!
URL:https://canyonlake.church/event/park-playdate-2/
LOCATION:Cornerstone Community Church\, 34570 Monte Vista Drive\, Wildomar\, CA\, 92595\, United States
CATEGORIES:Birth-TK,Young Family
ATTACH;FMTTYPE=image/jpeg:https://canyonlake.church/wp-content/uploads/sites/7/2025/05/C-KidsJR-Playdate-e3Q1K3.tmp_-nF8W1d.tmp_.jpg
ORGANIZER;CN="Cornerstone%20Community%20Church":MAILTO:info@gocornerstone.com
END:VEVENT
BEGIN:VEVENT
DTSTART;TZID=America/Los_Angeles:20250611T100000
DTEND;TZID=America/Los_Angeles:20250611T113000
DTSTAMP:20260423T095800
CREATED:20250502T074707Z
LAST-MODIFIED:20250530T124901Z
UID:1205-1749636000-1749641400@canyonlake.church
SUMMARY:Park Playdate
DESCRIPTION:Join us for a park playdate to get to know other parents in our Cornerstone community! We will be meeting at various local parks on the second Wednesday of June and July from 10-11:30AM. Snacks and water will be provided. \nPlease register so we can have enough snacks! \nWe’re excited to see you at the next park playdate!
URL:https://canyonlake.church/event/park-playdate/
LOCATION:Cornerstone Community Church\, 34570 Monte Vista Drive\, Wildomar\, CA\, 92595\, United States
CATEGORIES:Birth-TK,Young Family
ATTACH;FMTTYPE=image/jpeg:https://canyonlake.church/wp-content/uploads/sites/7/2025/05/C-KidsJR-Playdate-e3Q1K3.tmp_-nF8W1d.tmp_.jpg
ORGANIZER;CN="Cornerstone%20Community%20Church":MAILTO:info@gocornerstone.com
END:VEVENT
BEGIN:VEVENT
DTSTART;TZID=America/Los_Angeles:20250601T080000
DTEND;TZID=America/Los_Angeles:20250601T133000
DTSTAMP:20260423T095800
CREATED:20250416T173210Z
LAST-MODIFIED:20250530T124900Z
UID:1149-1748764800-1748784600@canyonlake.church
SUMMARY:Child Dedication
DESCRIPTION:We are celebrating Cornerstone families who are wanting to dedicate their children! \nChild dedication is an opportunity for parents to make a commitment before the Lord to raise their children to know God’s Word and ways. The Bible says all Scripture is good for teaching and training (2 Timothy 3:16)\, and parents are to diligently share God’s Word with their children (Deuteronomy 6:7). \nOur hope is for parents to raise their children to know and love the Lord\, and when the children are older\, they will want to participate in baptism to proclaim their genuine faith before God and their faith community. \nWe will be holding a Child Dedication for children birth-4yrs on Sunday\, June 1st\, during all services in the Main Sanctuary.\nPLEASE REGISTER YOUR CHILD FOR THE SERVICE YOU WOULD LIKE TO BE A PART OF.\n \nWe encourage you to invite family and friends to join in celebrating this special event!
URL:https://canyonlake.church/event/child-dedication-3/
LOCATION:Cornerstone Community Church\, 34570 Monte Vista Drive\, Wildomar\, CA\, 92595\, United States
CATEGORIES:Birth-TK,KNOW GOD,Young Family
ATTACH;FMTTYPE=image/jpeg:https://canyonlake.church/wp-content/uploads/sites/7/2025/04/CKJR-Dedication-oxQGwH.tmp_-QAcoxi.tmp_.jpg
END:VEVENT
BEGIN:VEVENT
DTSTART;TZID=America/Los_Angeles:20250525T070000
DTEND;TZID=America/Los_Angeles:20250525T080000
DTSTAMP:20260423T095800
CREATED:20250507T082945Z
LAST-MODIFIED:20250525T115912Z
UID:1216-1748156400-1748160000@canyonlake.church
SUMMARY:FAMILY MEAL
DESCRIPTION:When you give your life to Christ\, God adopts you into His family. Not only is God your Father\, but you now have brothers and sisters in Christ. Who are they? Look around on a Sunday morning at Cornerstone – that’s your spiritual family! One of the most cherished activities a family does together is to share a family meal. So that’s what we’re going to do: \nA CORNERSTONE FAMILY (BREAKFAST) MEAL\nFAMILY BREAKFAST MENU: \nEggs\, bacon\, biscuit\, oatmeal\, and fresh fruit \nOur hospitality team will provide the food and clean up afterwards. You can focus on eating and meeting new people: ask questions\, share your story\, laugh and pray together. Younger kids can play together on the playgrounds. Some of our pastors will be there so feel free to ask us questions about the church or our families. We encourage you to join us for the meal and then attend the 8AM service.  Each month we’ll mix up the menu and we hope that you’ll join us every month to continue to meet different people at Cornerstone. Registration will be open in advance all month long. We’ll do our best to accommodate food allergies. \nWHEN: The last Sunday of the month. \nWHERE: IN THE CHAPEL \nPRICE: $6 / adult \nIt’s free\, if you’re a kid 11 & under\nIt’s free\, if you’re new to Cornerstone during this month’s Family Meal\nIt’s free\, if you can’t afford to pay* \nSPOTS ARE LIMITED! PLEASE REGISTER AS SOON AS POSSIBLE TO SAVE YOUR SEAT! \n*Please contact our offices if you can’t afford to pay; register as normal and we’ll get it sorted!
URL:https://canyonlake.church/event/family-meal/
LOCATION:Cornerstone Community Church\, 34570 Monte Vista Drive\, Wildomar\, CA\, 92595\, United States
CATEGORIES:All Church,Birth-TK,Espanol,High School,Kids K-5,Men,Middle School,Seniors,Women,Young Adults
ATTACH;FMTTYPE=image/png:https://canyonlake.church/wp-content/uploads/sites/7/2025/05/Family-Meal-Brekkie-MU3A4C.tmp_-NBmwDj.tmp_.png
ORGANIZER;CN="Cornerstone%20Community%20Church":MAILTO:info@gocornerstone.com
END:VEVENT
BEGIN:VEVENT
DTSTART;VALUE=DATE:20250516
DTEND;VALUE=DATE:20250519
DTSTAMP:20260423T095800
CREATED:20250416T173205Z
LAST-MODIFIED:20250516T100210Z
UID:1147-1747353600-1747612799@canyonlake.church
SUMMARY:Cornerstone Family Camping Trip
DESCRIPTION:Ever watched Survivor and thought\, I could totally do that—as long as there’s a s’mores break? Or maybe you love Bass Pro Shops but haven’t actually used half the gear you bought? Well\, here’s your chance!\nJoin us for our first group camping trip of the year—a weekend to unplug from screens and plug into quality family time full of fun\, fellowship\, and the great outdoors. Whether you’re a first-time camper who thinks a tent sets itself up or a seasoned Bear Grylls type (minus the bug-eating)\, this trip is for you! \nDates: Friday–Sunday\, May 16-18\, 2025\nLocation: Hurkey Creek Park (aim for campsites #13-82)\nEach family books their own campsite\nBring your own food & gear\nCommunal sites: Campsites #14 & #15 \nWhat’s Included:\n✅ S’mores supplies—because bonding happens best over melted chocolate\n✅ A fun scavenger hunt—for kids (and competitive parents)\n✅ Saturday morning group devotion—before we set off on a group hike\nThis isn’t just a camping trip—it’s a chance to make core memories with your family\, share laughs around the fire\, and get to know other families from church (who\, like you\, may or may not remember how to start a campfire).\nBook your campsite today! \nWant to be part of future Cornerstone family camping adventures? Join our camping group at cornerstone.org/sports. \nEASY INVITE TEXT (copy/paste & send to a friend!):\nHey! Our family is going on a church camping trip at Hurkey Creek Park from May 16-18\, and you should totally come! It’s a great way to make family memories and enjoy the great outdoors (without having to hunt for food). Just book your own campsite (aim for sites 13-82) and join the fun! Let me know if you’re in! More details here: https://cornerstone.org/event/young-families-camping-trip/\nCome for the s’mores\, stay for the memories! See you at camp!
URL:https://canyonlake.church/event/cornerstone-family-camping-trip/
LOCATION:Cornerstone Community Church\, 34570 Monte Vista Drive\, Wildomar\, CA\, 92595\, United States
CATEGORIES:All Church,Birth-TK,GROW WITH OTHERS,High School,Kids K-5,KNOW GOD,Marriage,Men,Middle School,Seniors,USE YOUR GIFTS,Women,Young Adults,Young Family
ATTACH;FMTTYPE=image/png:https://canyonlake.church/wp-content/uploads/sites/7/2025/05/YF-CampingTrip-MyPkQG.tmp_-ir6l62.tmp_.png
ORGANIZER;CN="Cornerstone%20Community%20Church":MAILTO:info@gocornerstone.com
END:VEVENT
BEGIN:VEVENT
DTSTART;TZID=America/Los_Angeles:20250427T083000
DTEND;TZID=America/Los_Angeles:20250427T143000
DTSTAMP:20260423T095800
CREATED:20250426T071628Z
LAST-MODIFIED:20250427T071340Z
UID:1189-1745742600-1745764200@canyonlake.church
SUMMARY:One Big Family
DESCRIPTION:Join us on campus\, April 27\, after every service as we celebrate as One Big Family! Enjoy tacos\, free donuts\, inflatables\, music\, giveaways\, and more! Invite your friends and family\, find and grow your community at church\, and have fun!
URL:https://canyonlake.church/event/one-big-family/
LOCATION:Cornerstone Community Church\, 34570 Monte Vista Drive\, Wildomar\, CA\, 92595\, United States
CATEGORIES:All Church,Birth-TK,GROW WITH OTHERS,High School,Kids K-5,Marriage,Men,Middle School,Seniors,Women,Young Family
ATTACH;FMTTYPE=image/jpeg:https://canyonlake.church/wp-content/uploads/sites/7/2025/04/OBF25-xGZEOR.tmp_-ZnAJNT.tmp_.jpg
ORGANIZER;CN="Cornerstone%20Community%20Church":MAILTO:info@gocornerstone.com
END:VEVENT
END:VCALENDAR