BEGIN:VCALENDAR
VERSION:2.0
PRODID:-//CanyonLake.Church - ECPv5.6.0//NONSGML v1.0//EN
CALSCALE:GREGORIAN
METHOD:PUBLISH
X-WR-CALNAME:CanyonLake.Church
X-ORIGINAL-URL:https://canyonlake.church
X-WR-CALDESC:Events for CanyonLake.Church
BEGIN:VTIMEZONE
TZID:America/Los_Angeles
BEGIN:DAYLIGHT
TZOFFSETFROM:-0800
TZOFFSETTO:-0700
TZNAME:PDT
DTSTART:20250309T100000
END:DAYLIGHT
BEGIN:STANDARD
TZOFFSETFROM:-0700
TZOFFSETTO:-0800
TZNAME:PST
DTSTART:20251102T090000
END:STANDARD
END:VTIMEZONE
BEGIN:VEVENT
DTSTART;TZID=America/Los_Angeles:20250731T180000
DTEND;TZID=America/Los_Angeles:20250731T200000
DTSTAMP:20260423T084403
CREATED:20250503T080003Z
LAST-MODIFIED:20250530T124903Z
UID:1209-1753984800-1753992000@canyonlake.church
SUMMARY:Worship Night
DESCRIPTION:Do you ever wish we had an extended time of singing together on Sunday mornings? \nJoin us for Worship Night—an evening dedicated specifically to worshiping the Lord through music. While childcare is not provided\, children are definitely invited. \nWe can’t wait to worship with you!
URL:https://canyonlake.church/event/worship-night-3/
CATEGORIES:All Church,Birth-TK,GROW WITH OTHERS,HELP THE HURTING,High School,Kids K-5,KNOW GOD,Men,Middle School,Seniors,USE YOUR GIFTS,Women,Young Adults
ATTACH;FMTTYPE=image/jpeg:https://canyonlake.church/wp-content/uploads/sites/7/2025/05/CWorship25-Summer-tKpAUr.tmp_-Se8f3J.tmp_.jpg
END:VEVENT
BEGIN:VEVENT
DTSTART;VALUE=DATE:20250725
DTEND;VALUE=DATE:20250728
DTSTAMP:20260423T084403
CREATED:20250430T072748Z
LAST-MODIFIED:20250530T124902Z
UID:1201-1753401600-1753660799@canyonlake.church
SUMMARY:Mexico Family Missions Trip
DESCRIPTION:Be a part of making a lasting impact!\nWe’re inviting all Cornerstone families to join us for a mission trip down to doors of faith orphanage located in La Fonda\, Baja California from July 25-27. \nJoin us as we partner with Doors of Faith Orphanage to bring hope and love to orphans and the surrounding community—because at Cornerstone\, helping the hurting is at the heart of our Discipleship Pathway. \nChildren ages 8 and up are welcome to join us. Participants ages 8–17 must be accompanied by an adult (18 or older). \nA valid passport is required for all participants.\n\nDETAILS\nDate: July 25-27\nLocation: La Fonda\, Baja California\nCost: $375 per person\nMinimum Non-Refundable Deposit: $120\nFULL PAYMENT MUST BE RECEIVED BY JULY 10\nAvailable Discounts:\n– Sign up by May 18th: $375 $299\n– Sign up by June 23rd: $375 $325
URL:https://canyonlake.church/event/mexico-family-missions-trip/
LOCATION:Cornerstone Community Church\, 34570 Monte Vista Drive\, Wildomar\, CA\, 92595\, United States
CATEGORIES:All Church,Global,HELP THE HURTING,missions
ATTACH;FMTTYPE=image/jpeg:https://canyonlake.church/wp-content/uploads/sites/7/2025/04/GM-Mexico25-ufx1fg.tmp_-048YQi.tmp_.jpg
ORGANIZER;CN="Cornerstone%20Community%20Church":MAILTO:info@gocornerstone.com
END:VEVENT
BEGIN:VEVENT
DTSTART;TZID=America/Los_Angeles:20250724T183000
DTEND;TZID=America/Los_Angeles:20250724T193000
DTSTAMP:20260423T084403
CREATED:20250426T071637Z
LAST-MODIFIED:20250530T124902Z
UID:1191-1753381800-1753385400@canyonlake.church
SUMMARY:Prayer Night
DESCRIPTION:As a church\, one of our core values is connecting with God through prayer. As a family of believers\, we gather together to lift up needs in the church and around the world\, believing God is going to move in powerful ways. This is a fantastic opportunity to come together as a church family and spend time in God’s presence. Join us in the Multipurpose Room (3rd Floor) as we pray with faith that the Lord will help us in every area of our lives! \nWHAT ABOUT MY KIDS?\nThe whole family is invited to join us for our Night of Prayer. There will not be any childcare available so we highly encourage to bring your kids—no matter their age or stage! \nWHAT CAN YOU EXPECT?\nWe start with one acoustic worship song to settle our hearts and begin to enter an attitude of prayer. After that\, Pastor Andy will share a truth from Scripture about prayer to remind us of what prayer is. Then he’ll lead us through a time of guided prayer.
URL:https://canyonlake.church/event/prayer-night-4/
LOCATION:Cornerstone Community Church\, 34570 Monte Vista Drive\, Wildomar\, CA\, 92595\, United States
CATEGORIES:All Church,HELP THE HURTING,USE YOUR GIFTS
ATTACH;FMTTYPE=image/jpeg:https://canyonlake.church/wp-content/uploads/sites/7/2025/04/PrayerNight-2-DjBhIX.tmp_-Ms9nMZ.tmp_.jpg
ORGANIZER;CN="Cornerstone%20Community%20Church":MAILTO:info@gocornerstone.com
END:VEVENT
BEGIN:VEVENT
DTSTART;VALUE=DATE:20250714
DTEND;VALUE=DATE:20250719
DTSTAMP:20260423T084403
CREATED:20250419T063035Z
LAST-MODIFIED:20250530T124902Z
UID:1178-1752451200-1752883199@canyonlake.church
SUMMARY:VBS 2025
DESCRIPTION:Join CKiDS at Cornerstone July 14-18 for VBS 2025 \nVBS is for KiDS entering K-5th grade in Fall 2025. We will have TWO VBS sessions for you to choose from this year! We will have a morning session from 8:30-11:30AM and an evening session from 5:30-8:30PM. \nYou can only register for ONE session. The schedule is the same at each session\, just pick the session that works best for you and your kiddos! \nAt True North VBS\, kids will explore a relationship with Jesus! True North is filled with awesome Bible-learning experiences kids see\, hear\, and touch! Science-Fun Experiments\, team-building games\, and unforgettable worship are just a few of the standout activities that help faith flow into real life! \nHave questions? Email Pastor Kim at kwestaway@cornerstone.org \n\n\n\n\n\n\n\n\n\n\nMORNING SESSION REGISTRATION \n\n\n\n\n\n\n\n\nEVENING SESSION REGISTRATION \n\n\n\n\n\n\n\n\nVOLUNTEER SIGN-UP REGISTRATION
URL:https://canyonlake.church/event/vbs-2025/
CATEGORIES:All Church,GROW WITH OTHERS,HELP THE HURTING,Kids K-5,KNOW GOD,USE YOUR GIFTS
ATTACH;FMTTYPE=image/jpeg:https://canyonlake.church/wp-content/uploads/sites/7/2025/04/C-KiDS-TrueNorth-44b8KH.tmp_-jmSzMu.tmp_.jpg
END:VEVENT
BEGIN:VEVENT
DTSTART;TZID=America/Los_Angeles:20250626T183000
DTEND;TZID=America/Los_Angeles:20250626T193000
DTSTAMP:20260423T084403
CREATED:20250416T173947Z
LAST-MODIFIED:20250530T124902Z
UID:1167-1750962600-1750966200@canyonlake.church
SUMMARY:Prayer Night
DESCRIPTION:As a church\, one of our core values is connecting with God through prayer. As a family of believers\, we gather together to lift up needs in the church and around the world\, believing God is going to move in powerful ways. This is a fantastic opportunity to come together as a church family and spend time in God’s presence. Join us in the Multipurpose Room (3rd Floor) as we pray with faith that the Lord will help us in every area of our lives! \nWHAT ABOUT MY KIDS?\nThe whole family is invited to join us for our Night of Prayer. There will not be any childcare available so we highly encourage to bring your kids—no matter their age or stage! \nWHAT CAN YOU EXPECT?\nWe start with one acoustic worship song to settle our hearts and begin to enter an attitude of prayer. After that\, Pastor Andy will share a truth from Scripture about prayer to remind us of what prayer is. Then he’ll lead us through a time of guided prayer.
URL:https://canyonlake.church/event/prayer-night-3/
LOCATION:Cornerstone Community Church\, 34570 Monte Vista Drive\, Wildomar\, CA\, 92595\, United States
CATEGORIES:All Church,HELP THE HURTING,USE YOUR GIFTS
ATTACH;FMTTYPE=image/jpeg:https://canyonlake.church/wp-content/uploads/sites/7/2025/04/PrayerNight-2-DjBhIX.tmp_-Ms9nMZ.tmp_.jpg
ORGANIZER;CN="Cornerstone%20Community%20Church":MAILTO:info@gocornerstone.com
END:VEVENT
BEGIN:VEVENT
DTSTART;VALUE=DATE:20250623
DTEND;VALUE=DATE:20250628
DTSTAMP:20260423T084403
CREATED:20250416T173923Z
LAST-MODIFIED:20250530T124902Z
UID:1165-1750636800-1751068799@canyonlake.church
SUMMARY:MIDDLE SCHOOL Summer Camp 2025
DESCRIPTION:Give Your Student an Unforgettable Summer at Cornerstone Youth Summer Camp 2025!\nLooking for a way for your student to grow in their faith\, build lifelong friendships\, and have an absolute blast this summer? Cornerstone Youth MIDDLE SCHOOL Summer Camp at Thousand Pines Christian Camp is the perfect opportunity! \nWhat Makes This Camp Special?✔ A safe\, encouraging environment led by trusted pastors and leaders✔ A chance for your student to unplug\, recharge\, and connect with God✔ Exciting outdoor activities✔ Daily chapel sessions filled with worship\, teaching\, and spiritual growth✔ Strong friendships formed through team competitions\, group challenges\, and shared experiences \nCamp Details:Departure: Monday\, June 23rd @ 9:00 AMReturn: Friday\, June 27th @ 2:00 PMLocation: Thousand Pines Christian Camp \nCost & Registration:Price: $490$100 deposit required (non-refundable)Payment plans are available!Final balance due by Friday June 20th\, 2025 \nPayment Methods:Debit/Credit CardCashChecks (Payable to: Cornerstone Community Church) \nHave Questions? We’re Here to Help!Contact Pastor Navon at naikens@cornerstone.org \nGive your student a summer to remember—filled with fun\, faith\, and friendships that will last a lifetime! Sign up today! \n\n\n\n\n\n\n\n\n\n\n			\n		 \n			DONATE TO SUMMER CAMP		\n			\n	\n\n\n\n\n\n\n\n			\n		 \n			APPLY FOR SCHOLARSHIP
URL:https://canyonlake.church/event/middle-school-summer-camp-2025/
LOCATION:Cornerstone Community Church\, 34570 Monte Vista Drive\, Wildomar\, CA\, 92595\, United States
CATEGORIES:GROW WITH OTHERS,HELP THE HURTING,KNOW GOD,Middle School,USE YOUR GIFTS
ATTACH;FMTTYPE=image/png:https://canyonlake.church/wp-content/uploads/sites/7/2025/04/Middle-School-Summer-Camp-4jzDvG.tmp_-AGg6Mc.tmp_.png
ORGANIZER;CN="Cornerstone%20Community%20Church":MAILTO:info@gocornerstone.com
END:VEVENT
BEGIN:VEVENT
DTSTART;VALUE=DATE:20250623
DTEND;VALUE=DATE:20250628
DTSTAMP:20260423T084403
CREATED:20250416T173918Z
LAST-MODIFIED:20250530T124901Z
UID:1163-1750636800-1751068799@canyonlake.church
SUMMARY:HIGH SCHOOL Summer Camp 2025
DESCRIPTION:Give Your Student an Unforgettable Summer at Cornerstone Youth Summer Camp 2025!\nLooking for a way for your student to grow in their faith\, build lifelong friendships\, and have an absolute blast this summer? Cornerstone Youth HIGH SCHOOL Summer Camp at Thousand Pines Christian Camp is the perfect opportunity! \nWhat Makes This Camp Special?\n✔ A safe\, encouraging environment led by trusted pastors and leaders\n✔ A chance for your student to unplug\, recharge\, and connect with God\n✔ Exciting outdoor activities\n✔ Daily chapel sessions filled with worship\, teaching\, and spiritual growth\n✔ Strong friendships formed through team competitions\, group challenges\, and shared experiences \nCamp Details:\nDeparture: Monday\, June 23rd @ 9:00 AM\nReturn: Friday\, June 27th @ 2:00 PM\nLocation: Thousand Pines Christian Camp \nCost & Registration:\nPrice: $490\n$100 deposit required (non-refundable)\nPayment plans are available!\nFinal balance due by Friday June 20th\, 2025 \nPayment Methods:\nDebit/Credit Card\nCash\nChecks (Payable to: Cornerstone Community Church) \nHave Questions? We’re Here to Help!\nContact Pastor Levy at lczaja@cornerstone.org \nGive your student a summer to remember—filled with fun\, faith\, and friendships that will last a lifetime! Sign up today! \n\n\n\n\n\n\n\n\n\n\n			\n		 \n			DONATE TO SUMMER CAMP		\n			\n	\n\n\n\n\n\n\n\n			\n		 \n			APPLY FOR SCHOLARSHIP
URL:https://canyonlake.church/event/high-school-summer-camp-2025/
LOCATION:Cornerstone Community Church\, 34570 Monte Vista Drive\, Wildomar\, CA\, 92595\, United States
CATEGORIES:GROW WITH OTHERS,HELP THE HURTING,High School,KNOW GOD,USE YOUR GIFTS
ATTACH;FMTTYPE=image/png:https://canyonlake.church/wp-content/uploads/sites/7/2025/04/SUMMER-CAMP-2025-JUNE-23-27TH-1-T8Al2f.tmp_-q70ThG.tmp_.png
ORGANIZER;CN="Cornerstone%20Community%20Church":MAILTO:info@gocornerstone.com
END:VEVENT
BEGIN:VEVENT
DTSTART;VALUE=DATE:20250611
DTEND;VALUE=DATE:20250620
DTSTAMP:20260423T084404
CREATED:20250416T173910Z
LAST-MODIFIED:20250530T124901Z
UID:1158-1749600000-1750377599@canyonlake.church
SUMMARY:Rwanda Missions Trip 2025
DESCRIPTION:Join us for a missions trip to Rwanda from June 11-19\, 2025. We will spend our time working alongside a local church in the Musanze district in the Northern Province of Rwanda. \nMinistry Focus\nMinistry activities will vary but expected outreaches include youth focused outreaches\, home visits\, a service project\, discipleship trainings and more! \nCost\nTotal = $3\,150\nDeposit = $1\,000 by 2/1 or first come first serve\n– $500 monthly payments after ($600 last payment)\nFULL BALANCE MUST BE PAID BY 6/1\nIf people miss any payments each month we may open it up to others on waitlist. \nThe cost includes:\n– Flight\n– Transportation (to & from airport)\n– Hotels\n– 3 meals a day once on the ground\n– Travel Insurance\n– Ministry project funds \nCost Does Not Include\nPersonal expenses\, extra meals\, credit card fee of approximately 3% \nRecommended to bring $100 – $200 for airport food\, snacks and souvenirs \n!!IMPORTANT!!\nAll payments are non-refundable and if you are unable to meet one of your monthly payments\, we reserve the right to bump someone from the waitlist to replace your spot on the trip. If you are unable to go for any reason\, please consider what you have paid as a donation towards the trip to be used for gospel ministry in Rwanda.
URL:https://canyonlake.church/event/rwanda-missions-trip-2025/
LOCATION:Cornerstone Community Church\, 34570 Monte Vista Drive\, Wildomar\, CA\, 92595\, United States
CATEGORIES:All Church,Espanol,Global,Groups,GROW WITH OTHERS,HELP THE HURTING,High School,Kids K-5,Men,Middle School,missions,Seniors,USE YOUR GIFTS,Women,Young Adults
ATTACH;FMTTYPE=image/jpeg:https://canyonlake.church/wp-content/uploads/sites/7/2025/04/GM-Rwanda25-oMioaD.tmp_-dB5WKe.tmp_.jpg
ORGANIZER;CN="Cornerstone%20Community%20Church":MAILTO:info@gocornerstone.com
END:VEVENT
BEGIN:VEVENT
DTSTART;TZID=America/Los_Angeles:20250608T080000
DTEND;TZID=America/Los_Angeles:20250608T140000
DTSTAMP:20260423T084404
CREATED:20250523T114623Z
LAST-MODIFIED:20250530T124900Z
UID:1252-1749369600-1749391200@canyonlake.church
SUMMARY:FOOD DRIVE with Helping Hands
DESCRIPTION:Cornerstone’s Community Missions team recently learned that Helping Hands\, one of our trusted ministry partners\, is facing a supply shortage. This has put many local seniors at risk of going without enough groceries each month. We’re asking for your help even though you stepped up in February during our AMAZING food drive that supported a different pantry. Together\, we can ensure that seniors in our community do not go hungry. Let’s come alongside Helping Hands and provide the care and support our seniors deserve. \nCOLLECTION DATES: June 1 & 8
URL:https://canyonlake.church/event/food-drive-with-helping-hands-2/
LOCATION:Cornerstone Community Church\, 34570 Monte Vista Drive\, Wildomar\, CA\, 92595\, United States
CATEGORIES:All Church,Community,HELP THE HURTING,missions
ATTACH;FMTTYPE=image/jpeg:https://canyonlake.church/wp-content/uploads/sites/7/2025/05/FoodDrive25-0nlGO9.tmp_-LiHSCe.tmp_.jpg
ORGANIZER;CN="Cornerstone%20Community%20Church":MAILTO:info@gocornerstone.com
END:VEVENT
BEGIN:VEVENT
DTSTART;TZID=America/Los_Angeles:20250603T080000
DTEND;TZID=America/Los_Angeles:20250603T090000
DTSTAMP:20260423T084404
CREATED:20250416T173910Z
LAST-MODIFIED:20250530T124900Z
UID:1157-1748937600-1748941200@canyonlake.church
SUMMARY:Moms In Prayer
DESCRIPTION:Moms in Prayer International impacts children and schools worldwide for Christ by gathering mothers to pray. Starting Tuesdays\, August 20\, 2024 – June 3\, 2025\, we want to have a weekly\, one-hour prayer meeting where moms can come and pray for their children and for their schools. \nMeetings will be held at 8:00AM in the “Family Room” across from the main sanctuary. \nIMPORTANT NOTE: We will not be meeting on the following dates for holiday breaks. \n11/26/2024\n12/17/2024\n12/24/2024\n12/31/2024\n1/7/2025\n4/15/2025\n4/22/2025
URL:https://canyonlake.church/event/moms-in-prayer-6/
LOCATION:Cornerstone Community Church\, 34570 Monte Vista Drive\, Wildomar\, CA\, 92595\, United States
CATEGORIES:HELP THE HURTING,Women
ATTACH;FMTTYPE=image/jpeg:https://canyonlake.church/wp-content/uploads/sites/7/2025/04/CW-MomsInPrayer-01-scaled-EG3TTu.tmp_-vdX535.tmp_.jpg
END:VEVENT
BEGIN:VEVENT
DTSTART;TZID=America/Los_Angeles:20250601T080000
DTEND;TZID=America/Los_Angeles:20250601T140000
DTSTAMP:20260423T084404
CREATED:20250523T114620Z
LAST-MODIFIED:20250530T124900Z
UID:1250-1748764800-1748786400@canyonlake.church
SUMMARY:FOOD DRIVE with Helping Hands
DESCRIPTION:Cornerstone’s Community Missions team recently learned that Helping Hands\, one of our trusted ministry partners\, is facing a supply shortage. This has put many local seniors at risk of going without enough groceries each month. We’re asking for your help even though you stepped up in February during our AMAZING food drive that supported a different pantry. Together\, we can ensure that seniors in our community do not go hungry. Let’s come alongside Helping Hands and provide the care and support our seniors deserve. \nCOLLECTION DATES: June 1 & 8
URL:https://canyonlake.church/event/food-drive-with-helping-hands/
LOCATION:Cornerstone Community Church\, 34570 Monte Vista Drive\, Wildomar\, CA\, 92595\, United States
CATEGORIES:All Church,Community,HELP THE HURTING,missions
ATTACH;FMTTYPE=image/jpeg:https://canyonlake.church/wp-content/uploads/sites/7/2025/05/FoodDrive25-0nlGO9.tmp_-LiHSCe.tmp_.jpg
ORGANIZER;CN="Cornerstone%20Community%20Church":MAILTO:info@gocornerstone.com
END:VEVENT
BEGIN:VEVENT
DTSTART;TZID=America/Los_Angeles:20250529T183000
DTEND;TZID=America/Los_Angeles:20250529T193000
DTSTAMP:20260423T084404
CREATED:20250520T102520Z
LAST-MODIFIED:20250529T124334Z
UID:1242-1748543400-1748547000@canyonlake.church
SUMMARY:Prayer Night
DESCRIPTION:As a church\, one of our core values is connecting with God through prayer. As a family of believers\, we gather together to lift up needs in the church and around the world\, believing God is going to move in powerful ways. This is a fantastic opportunity to come together as a church family and spend time in God’s presence. Join us in the Multipurpose Room (3rd Floor) as we pray with faith that the Lord will help us in every area of our lives! \nWHAT ABOUT MY KIDS?\nThe whole family is invited to join us for our Night of Prayer. There will not be any childcare available so we highly encourage to bring your kids—no matter their age or stage! \nWHAT CAN YOU EXPECT?\nWe start with one acoustic worship song to settle our hearts and begin to enter an attitude of prayer. After that\, Pastor Andy will share a truth from Scripture about prayer to remind us of what prayer is. Then he’ll lead us through a time of guided prayer.
URL:https://canyonlake.church/event/prayer-night-5/
LOCATION:Cornerstone Community Church\, 34570 Monte Vista Drive\, Wildomar\, CA\, 92595\, United States
CATEGORIES:All Church,HELP THE HURTING,USE YOUR GIFTS
ATTACH;FMTTYPE=image/jpeg:https://canyonlake.church/wp-content/uploads/sites/7/2025/04/PrayerNight-2-DjBhIX.tmp_-Ms9nMZ.tmp_.jpg
ORGANIZER;CN="Cornerstone%20Community%20Church":MAILTO:info@gocornerstone.com
END:VEVENT
BEGIN:VEVENT
DTSTART;TZID=America/Los_Angeles:20250527T080000
DTEND;TZID=America/Los_Angeles:20250527T090000
DTSTAMP:20260423T084404
CREATED:20250416T173910Z
LAST-MODIFIED:20250527T121728Z
UID:1156-1748332800-1748336400@canyonlake.church
SUMMARY:Moms In Prayer
DESCRIPTION:Moms in Prayer International impacts children and schools worldwide for Christ by gathering mothers to pray. Starting Tuesdays\, August 20\, 2024 – June 3\, 2025\, we want to have a weekly\, one-hour prayer meeting where moms can come and pray for their children and for their schools. \nMeetings will be held at 8:00AM in the “Family Room” across from the main sanctuary. \nIMPORTANT NOTE: We will not be meeting on the following dates for holiday breaks. \n11/26/2024\n12/17/2024\n12/24/2024\n12/31/2024\n1/7/2025\n4/15/2025\n4/22/2025
URL:https://canyonlake.church/event/moms-in-prayer-5/
LOCATION:Cornerstone Community Church\, 34570 Monte Vista Drive\, Wildomar\, CA\, 92595\, United States
CATEGORIES:HELP THE HURTING,Women
ATTACH;FMTTYPE=image/jpeg:https://canyonlake.church/wp-content/uploads/sites/7/2025/04/CW-MomsInPrayer-01-scaled-EG3TTu.tmp_-vdX535.tmp_.jpg
END:VEVENT
BEGIN:VEVENT
DTSTART;TZID=America/Los_Angeles:20250522T183000
DTEND;TZID=America/Los_Angeles:20250522T193000
DTSTAMP:20260423T084404
CREATED:20250416T173905Z
LAST-MODIFIED:20250522T111415Z
UID:1153-1747938600-1747942200@canyonlake.church
SUMMARY:Prayer Night
DESCRIPTION:As a church\, one of our core values is connecting with God through prayer. As a family of believers\, we gather together to lift up needs in the church and around the world\, believing God is going to move in powerful ways. This is a fantastic opportunity to come together as a church family and spend time in God’s presence. Join us in the Multipurpose Room (3rd Floor) as we pray with faith that the Lord will help us in every area of our lives! \nWHAT ABOUT MY KIDS?\nThe whole family is invited to join us for our Night of Prayer. There will not be any childcare available so we highly encourage to bring your kids—no matter their age or stage! \nWHAT CAN YOU EXPECT?\nWe start with one acoustic worship song to settle our hearts and begin to enter an attitude of prayer. After that\, Pastor Andy will share a truth from Scripture about prayer to remind us of what prayer is. Then he’ll lead us through a time of guided prayer.
URL:https://canyonlake.church/event/prayer-night-2/
LOCATION:Cornerstone Community Church\, 34570 Monte Vista Drive\, Wildomar\, CA\, 92595\, United States
CATEGORIES:All Church,HELP THE HURTING,USE YOUR GIFTS
ATTACH;FMTTYPE=image/jpeg:https://canyonlake.church/wp-content/uploads/sites/7/2025/04/PrayerNight-2-DjBhIX.tmp_-Ms9nMZ.tmp_.jpg
ORGANIZER;CN="Cornerstone%20Community%20Church":MAILTO:info@gocornerstone.com
END:VEVENT
BEGIN:VEVENT
DTSTART;TZID=America/Los_Angeles:20250520T080000
DTEND;TZID=America/Los_Angeles:20250520T090000
DTSTAMP:20260423T084404
CREATED:20250416T173905Z
LAST-MODIFIED:20250520T102522Z
UID:1151-1747728000-1747731600@canyonlake.church
SUMMARY:Moms In Prayer
DESCRIPTION:Moms in Prayer International impacts children and schools worldwide for Christ by gathering mothers to pray. Starting Tuesdays\, August 20\, 2024 – June 3\, 2025\, we want to have a weekly\, one-hour prayer meeting where moms can come and pray for their children and for their schools. \nMeetings will be held at 8:00AM in the “Family Room” across from the main sanctuary. \nIMPORTANT NOTE: We will not be meeting on the following dates for holiday breaks. \n11/26/2024\n12/17/2024\n12/24/2024\n12/31/2024\n1/7/2025\n4/15/2025\n4/22/2025
URL:https://canyonlake.church/event/moms-in-prayer-4/
LOCATION:Cornerstone Community Church\, 34570 Monte Vista Drive\, Wildomar\, CA\, 92595\, United States
CATEGORIES:HELP THE HURTING,Women
ATTACH;FMTTYPE=image/jpeg:https://canyonlake.church/wp-content/uploads/sites/7/2025/04/CW-MomsInPrayer-01-scaled-EG3TTu.tmp_-vdX535.tmp_.jpg
END:VEVENT
BEGIN:VEVENT
DTSTART;TZID=America/Los_Angeles:20250513T080000
DTEND;TZID=America/Los_Angeles:20250513T090000
DTSTAMP:20260423T084404
CREATED:20250416T173205Z
LAST-MODIFIED:20250513T094921Z
UID:1146-1747123200-1747126800@canyonlake.church
SUMMARY:Moms In Prayer
DESCRIPTION:Moms in Prayer International impacts children and schools worldwide for Christ by gathering mothers to pray. Starting Tuesdays\, August 20\, 2024 – June 3\, 2025\, we want to have a weekly\, one-hour prayer meeting where moms can come and pray for their children and for their schools. \nMeetings will be held at 8:00AM in the “Family Room” across from the main sanctuary. \nIMPORTANT NOTE: We will not be meeting on the following dates for holiday breaks. \n11/26/2024\n12/17/2024\n12/24/2024\n12/31/2024\n1/7/2025\n4/15/2025\n4/22/2025
URL:https://canyonlake.church/event/moms-in-prayer-3/
LOCATION:Cornerstone Community Church\, 34570 Monte Vista Drive\, Wildomar\, CA\, 92595\, United States
CATEGORIES:HELP THE HURTING,Women
ATTACH;FMTTYPE=image/jpeg:https://canyonlake.church/wp-content/uploads/sites/7/2025/04/CW-MomsInPrayer-01-scaled-EG3TTu.tmp_-vdX535.tmp_.jpg
END:VEVENT
BEGIN:VEVENT
DTSTART;TZID=America/Los_Angeles:20250506T080000
DTEND;TZID=America/Los_Angeles:20250506T090000
DTSTAMP:20260423T084404
CREATED:20250416T173204Z
LAST-MODIFIED:20250506T082836Z
UID:1144-1746518400-1746522000@canyonlake.church
SUMMARY:Moms In Prayer
DESCRIPTION:Moms in Prayer International impacts children and schools worldwide for Christ by gathering mothers to pray. Starting Tuesdays\, August 20\, 2024 – June 3\, 2025\, we want to have a weekly\, one-hour prayer meeting where moms can come and pray for their children and for their schools. \nMeetings will be held at 8:00AM in the “Family Room” across from the main sanctuary. \nIMPORTANT NOTE: We will not be meeting on the following dates for holiday breaks. \n11/26/2024\n12/17/2024\n12/24/2024\n12/31/2024\n1/7/2025\n4/15/2025\n4/22/2025
URL:https://canyonlake.church/event/moms-in-prayer-2/
LOCATION:Cornerstone Community Church\, 34570 Monte Vista Drive\, Wildomar\, CA\, 92595\, United States
CATEGORIES:HELP THE HURTING,Women
ATTACH;FMTTYPE=image/jpeg:https://canyonlake.church/wp-content/uploads/sites/7/2025/04/CW-MomsInPrayer-01-scaled-EG3TTu.tmp_-vdX535.tmp_.jpg
END:VEVENT
BEGIN:VEVENT
DTSTART;TZID=America/Los_Angeles:20250429T080000
DTEND;TZID=America/Los_Angeles:20250429T090000
DTSTAMP:20260423T084404
CREATED:20250416T173155Z
LAST-MODIFIED:20250429T072821Z
UID:1140-1745913600-1745917200@canyonlake.church
SUMMARY:Moms In Prayer
DESCRIPTION:Moms in Prayer International impacts children and schools worldwide for Christ by gathering mothers to pray. Starting Tuesdays\, August 20\, 2024 – June 3\, 2025\, we want to have a weekly\, one-hour prayer meeting where moms can come and pray for their children and for their schools. \nMeetings will be held at 8:00AM in the “Family Room” across from the main sanctuary. \nIMPORTANT NOTE: We will not be meeting on the following dates for holiday breaks. \n11/26/2024\n12/17/2024\n12/24/2024\n12/31/2024\n1/7/2025\n4/15/2025\n4/22/2025
URL:https://canyonlake.church/event/moms-in-prayer/
LOCATION:Cornerstone Community Church\, 34570 Monte Vista Drive\, Wildomar\, CA\, 92595\, United States
CATEGORIES:HELP THE HURTING,Women
ATTACH;FMTTYPE=image/jpeg:https://canyonlake.church/wp-content/uploads/sites/7/2025/04/CW-MomsInPrayer-01-scaled-EG3TTu.tmp_-vdX535.tmp_.jpg
END:VEVENT
BEGIN:VEVENT
DTSTART;TZID=America/Los_Angeles:20250424T183000
DTEND;TZID=America/Los_Angeles:20250424T193000
DTSTAMP:20260423T084404
CREATED:20250416T172311Z
LAST-MODIFIED:20250424T065957Z
UID:1134-1745519400-1745523000@canyonlake.church
SUMMARY:Prayer Night
DESCRIPTION:As a church\, one of our core values is connecting with God through prayer. As a family of believers\, we gather together to lift up needs in the church and around the world\, believing God is going to move in powerful ways. This is a fantastic opportunity to come together as a church family and spend time in God’s presence. Join us in the Multipurpose Room (3rd Floor) as we pray with faith that the Lord will help us in every area of our lives! \nWHAT ABOUT MY KIDS?\nThe whole family is invited to join us for our Night of Prayer. There will not be any childcare available so we highly encourage to bring your kids—no matter their age or stage! \nWHAT CAN YOU EXPECT?\nWe start with one acoustic worship song to settle our hearts and begin to enter an attitude of prayer. After that\, Pastor Andy will share a truth from Scripture about prayer to remind us of what prayer is. Then he’ll lead us through a time of guided prayer.
URL:https://canyonlake.church/event/prayer-night/
LOCATION:Cornerstone Community Church\, 34570 Monte Vista Drive\, Wildomar\, CA\, 92595\, United States
CATEGORIES:All Church,HELP THE HURTING,USE YOUR GIFTS
ATTACH;FMTTYPE=image/jpeg:https://canyonlake.church/wp-content/uploads/sites/7/2025/04/PrayerNight-2-DjBhIX.tmp_-Ms9nMZ.tmp_.jpg
ORGANIZER;CN="Cornerstone%20Community%20Church":MAILTO:info@gocornerstone.com
END:VEVENT
END:VCALENDAR